BEGIN:VCALENDAR
VERSION:2.0
PRODID:-//ChamberMaster//Event Calendar 2.0//EN
METHOD:PUBLISH
X-PUBLISHED-TTL:P3D
REFRESH-INTERVAL:P3D
CALSCALE:GREGORIAN
BEGIN:VEVENT
DTSTART:20231028T150000Z
DTEND:20231028T210000Z
X-MICROSOFT-CDO-ALLDAYEVENT:FALSE
SUMMARY:Community Fall Fest
DESCRIPTION:Pie\, Jam\, and Salsa Contest\, Food\, Games\, Hayride\, Auctions\, Vendors and Live Music!
X-ALT-DESC;FMTTYPE=text/html:Pie\, Jam\, and Salsa Contest\, Food\, Games\, Hayride\, Auctions\, Vendors and Live Music!
LOCATION:917 FM 822 Edna\, TX 77957
UID:e.2965.1180
SEQUENCE:3
DTSTAMP:20260424T235257Z
URL:http://jacksoncountytx.chambermaster.com/events/details/community-fall-fest-1180
END:VEVENT

END:VCALENDAR
