BEGIN:VCALENDAR
VERSION:2.0
PRODID:-//ChamberMaster//Event Calendar 2.0//EN
METHOD:PUBLISH
X-PUBLISHED-TTL:P3D
REFRESH-INTERVAL:P3D
CALSCALE:GREGORIAN
BEGIN:VEVENT
DTSTART:20230618T013000Z
DTEND:20230618T040000Z
X-MICROSOFT-CDO-ALLDAYEVENT:FALSE
SUMMARY:Dance
DESCRIPTION:Get the whole family together and out on the dance floor because DJ Kevin Stancik will be spinning a great mix of tunes that the entire family can dance to!
X-ALT-DESC;FMTTYPE=text/html:Get the whole family together and out on the dance floor because DJ Kevin Stancik will be spinning a great mix of tunes that the entire family can dance to!&nbsp\;
LOCATION:Texana Park Pavillion
UID:e.2965.1796
SEQUENCE:3
DTSTAMP:20260422T231214Z
URL:http://jacksoncountytx.chambermaster.com/events/details/dance-1796
END:VEVENT

END:VCALENDAR
