BEGIN:VCALENDAR
VERSION:2.0
PRODID:-//ChamberMaster//Event Calendar 2.0//EN
METHOD:PUBLISH
X-PUBLISHED-TTL:P3D
REFRESH-INTERVAL:P3D
CALSCALE:GREGORIAN
BEGIN:VEVENT
DTSTART:20231030T000000Z
DTEND:20231030T030000Z
X-MICROSOFT-CDO-ALLDAYEVENT:FALSE
SUMMARY:Haunted Trail
DESCRIPTION:Don't miss the Haunted Trail from 7 - 10pm brought to you by the GHS Senior Class!  General Admission $10\n\n\n\nTrunk or Treat has been moved to October 31 at Patman Square!
X-ALT-DESC;FMTTYPE=text/html:<div class="xdj266r x11i5rnm xat24cr x1mh8g0r x1vvkbs" style="margin: 0px\; overflow-wrap: break-word\; font-family: &quot\;Segoe UI Historic&quot\;\, &quot\;Segoe UI&quot\;\, Helvetica\, Arial\, sans-serif\; color: rgb(5\, 5\, 5)\; font-size: 15px\; background-color: rgb(255\, 255\, 255)\;">Don&#39\;t miss the Haunted Trail from 7 - 10pm brought to you by the GHS Senior Class!&nbsp\; General Admission $10<br />\n<br />\nTrunk or Treat has been moved to October 31 at Patman Square!</div>\n
LOCATION:
UID:e.2965.1280
SEQUENCE:3
DTSTAMP:20260424T054104Z
URL:http://jacksoncountytx.chambermaster.com/events/details/haunted-trail-1280
END:VEVENT

END:VCALENDAR
